Workbook

Sheet Foglio1
A1: titolo | B1: abstract | C1: dataPubbicazioneDataset | D1: entePubblicatore | E1: dataUltimoAggiornamentoDataset | F1: annoRiferimento | G1: urlFile | H1: licenza
A2: Pubblicazione Legge 190 | B2: Pubblicazione Legge 190 2017 | C2: 42765 | D2: Re.G.I.S.C.C. | E2: 42403 | F2: 2016 | H2: IODL

Sheet Foglio2
A1: cig | B1: codiceFiscaleProp | C1: denominazione | D1: oggetto | E1: sceltaContraente | F1: importoAggiudicazione | G1: dataInizio | H1: dataUltimazione | I1: importoSommeLiquidate
A2: ZE719C1FD5 | B2: 97538030582 | C2: Re.G.I.S.C.C. | D2: Acquisizione materiale tlc per sistemi complessi per CSV | E2: 23-AFFIDAMENTO IN ECONOMIA - AFFIDAMENTO DIRETTO | F2: 6260 | G2: 42507 | H2: 42516 | I2: 6260
A3: ZD219A467D | B3: 97538030582 | C3: Re.G.I.S.C.C. | D3: Manutenzione e adeguamento impianti e terminaliVTC-ITAF SECRET WAN | E3: 08-AFFIDAMENTO IN ECONOMIA - COTTIMO FIDUCIARIO | F3: 20382 | G3: 42494 | H3: 42668 | I3: 20382
A4: 6696400C15 | B4: 97538030582 | C4: Re.G.I.S.C.C. | D4: Manutenzione e adeguamento impianti e terminali VOIP SECRET WAN. | E4: 08-AFFIDAMENTO IN ECONOMIA - COTTIMO FIDUCIARIO | F4: 31615.7 | G4: 42509 | H4: 42725 | I4: 31615.7
A5: 6696400C15 | B5: 97538030582 | C5: Re.G.I.S.C.C. | D5: Acquisizione cifranti telsy | E5: 23-AFFIDAMENTO IN ECONOMIA - AFFIDAMENTO DIRETTO | F5: 111750 | G5: 42489 | H5: 42794 | I5: 0
A6: ZB41B0AEF8 | B6: 97538030582 | C6: Re.G.I.S.C.C. | D6: Rinnovo licenze ITAF SECRET WAN | E6: 08-AFFIDAMENTO IN ECONOMIA - COTTIMO FIDUCIARIO | F6: 18984 | G6: 42620 | H6: 42794 | I6: 0
A7: Z3F1A0C205 | B7: 97538030582 | C7: Re.G.I.S.C.C. | D7: Manutenzione Software COTS per il sistema ITAF SECRET WAN | E7: 08-AFFIDAMENTO IN ECONOMIA - COTTIMO FIDUCIARIO | F7: 18208 | G7: 42542 | H7: 42825 | I7: 0
A8: ZB81A5C1CA | B8: 97538030582 | C8: Re.G.I.S.C.C. | D8: Supporto sistemistico per l' attività di reingegnerizzazione del sistema sparviero | E8: 08-AFFIDAMENTO IN ECONOMIA - COTTIMO FIDUCIARIO | F8: 23718.24 | G8: 42542 | H8: 42716 | I8: 23718.24
A9: Z721C2D05E | B9: 97538030582 | C9: Re.G.I.S.C.C. | D9: Adeguamento hardware ITAF SECRET WAN | E9: 08-AFFIDAMENTO IN ECONOMIA - COTTIMO FIDUCIARIO | F9: 20254 | G9: 42716 | H9: 42794 | I9: 0
A10: ZF91A60A37 | B10: 97538030582 | C10: Re.G.I.S.C.C. | D10: Assistenza per il rinnovo delle certificazioni iso 9001 ed iso 27001 | E10: 23-AFFIDAMENTO IN ECONOMIA - AFFIDAMENTO DIRETTO | F10: 30112.5 | G10: 42549 | H10: 42825 | I10: 0
A11: Z831AC9663 | B11: 97538030582 | C11: Re.G.I.S.C.C. | D11: Supporto sistemistico per l'interoperabilità del sistema JAGUARS in ambito NATO CWIX 2016 | E11: 23-AFFIDAMENTO IN ECONOMIA - AFFIDAMENTO DIRETTO | F11: 39979.89 | G11: 42605 | H11: 42719 | I11: 0
A12: Z081A0C2E2 | B12: 97538030582 | C12: Re.G.I.S.C.C. | D12: Spese connesse alle attivita' istituzionali e ai rapporti sociuali | E12: 23-AFFIDAMENTO IN ECONOMIA - AFFIDAMENTO DIRETTO | F12: 789.8 | G12: 42606 | H12: 42642 | I12: 789.8
A13: Z1F1C7FA38 | B13: 97538030582 | C13: Re.G.I.S.C.C. | D13: Acquisizione materiale per il benessere del personale | E13: 23-AFFIDAMENTO IN ECONOMIA - AFFIDAMENTO DIRETTO | F13: 6600 | G13: 42719 | H13: 42825 | I13: 0
... A26: Z3E1B714E7 | B26: 97538030582 | C26: Re.G.I.S.C.C. | D26: Supporto sistemistico per l'adeguamento del modulo proxy CSD alle versioni CSD bravo e bravo1 | E26: 23-AFFIDAMENTO IN ECONOMIA - AFFIDAMENTO DIRETTO | F26: 32760 | G26: 42648 | H26: 42825 | I26: 0
A27: 6789632592 | B27: 97538030582 | C27: Re.G.I.S.C.C. | D27: Supporto sistemistico per l'attività di integrazione di nuove funzionalità nella suite di comando e controllo BLADE RUNNER | E27: 08-AFFIDAMENTO IN ECONOMIA - COTTIMO FIDUCIARIO | F27: 52300 | G27: 42612 | H27: 42825 | I27: 0
A28: 6856432AAB | B28: 97538030582 | C28: Re.G.I.S.C.C. | D28: Architettura sistema AIRC 2is Blade Runner Manutenzione Agiiornamenti | E28: 08-AFFIDAMENTO IN ECONOMIA - COTTIMO FIDUCIARIO | F28: 115440 | G28: 42719 | H28: 42825 | I28: 0
A29: Z0E1BDD547 | B29: 97538030582 | C29: Re.G.I.S.C.C. | D29: Mantenimento a numero di apparati per gestione ed analisi immagini piano cagi esigenze OFCN | E29: 08-AFFIDAMENTO IN ECONOMIA - COTTIMO FIDUCIARIO | F29: 25998 | G29: 42681 | H29: 42825 | I29: 0
A30: Z421B3C0F9 | B30: 97538030582 | C30: Re.G.I.S.C.C. | D30: Materiale di cancelleria | E30: 08-AFFIDAMENTO IN ECONOMIA - COTTIMO FIDUCIARIO | F30: 531.71 | G30: 42642 | H30: 42718 | I30: 531.71
A31: Z321CAD8CF | B31: 97538030582 | C31: Re.G.I.S.C.C. | D31: Spese per DPI | E31: 23-AFFIDAMENTO IN ECONOMIA - AFFIDAMENTO DIRETTO | F31: 927.9 | G31: 42726 | H31: 42825 | I31: 0
A32: Z301B41558 | B32: 97538030582 | C32: Re.G.I.S.C.C. | D32: Noleggio fotoriproduttori | E32: 08-AFFIDAMENTO IN ECONOMIA - COTTIMO FIDUCIARIO | F32: 1598 | G32: 42681 | H32: 42825 | I32: 0
A33: Z691C92B7B | B33: 97538030582 | C33: Re.G.I.S.C.C. | D33: Rete sensornet manutenzione e aggiornamento | E33: 08-AFFIDAMENTO IN ECONOMIA - COTTIMO FIDUCIARIO | F33: 19298 | G33: 42723 | H33: 42825 | I33: 0
A34: z2b1c880d6 | B34: 97538030582 | C34: Re.G.I.S.C.C. | D34: Potenziamento sistema XOMAIL | E34: 23-AFFIDAMENTO IN ECONOMIA - AFFIDAMENTO DIRETTO | F34: 9050 | G34: 42732 | H34: 42825 | I34: 0
A35: ZBC1B19C70 | B35: 97538030582 | C35: Re.G.I.S.C.C. | D35: Manutenzione ed adeguamento impianti e terminali di videoconferenza per ITAF S WAN | E35: 23-AFFIDAMENTO IN ECONOMIA - AFFIDAMENTO DIRETTO | F35: 607.62 | G35: 42620 | H35: 42725 | I35: 607.26
A36: Z3F1C6A0E5 | B36: 97538030582 | C36: Re.G.I.S.C.C. | D36: Acquisizione di un sistema di convergenza e bilanciamento server farm ITAF SECRET WAN | E36: 08-AFFIDAMENTO IN ECONOMIA - COTTIMO FIDUCIARIO | F36: 32697.01 | G36: 42726 | H36: 42825 | I36: 0
A37: 68084384C6 | B37: 97538030582 | C37: Re.G.I.S.C.C. | D37: Acquisizione apparati cifranti per potenziamento sensornet | E37: 23-AFFIDAMENTO IN ECONOMIA - AFFIDAMENTO DIRETTO | F37: 122500 | G37: 42709 | H37: 42825 | I37: 0
A38: 68084230a7 | B38: 97538030582 | C38: Re.G.I.S.C.C. | D38: Acquisizione Hardware e Software fase1 sensornet | E38: 08-AFFIDAMENTO IN ECONOMIA - COTTIMO FIDUCIARIO | F38: 93447.9 | G38: 42634 | H38: 42825 | I38: 0
A39: Z821B75F1E | B39: 97538030582 | C39: Re.G.I.S.C.C. | D39: Supporto tecnico apparati firewall | E39: 08-AFFIDAMENTO IN ECONOMIA - COTTIMO FIDUCIARIO | F39: 27934.9 | G39: 42668 | H39: 42379 | I39: 27934.9
... A52: Z111C47E24 | B52: 97538030582 | C52: Re.G.I.S.C.C. | D52: Assistenza tecnico sistemistica per lo sviluppo WEB ASP.NET MVC4 | E52: 08-AFFIDAMENTO IN ECONOMIA - COTTIMO FIDUCIARIO | F52: 3900 | G52: 42720 | H52: 42825 | I52: 0
A53: 6891598693 | B53: 97538030582 | C53: Re.G.I.S.C.C. | D53: Manutenzione aggiornamento sw hw per sistema IEG JAGUARS | E53: 08-AFFIDAMENTO IN ECONOMIA - COTTIMO FIDUCIARIO | F53: 118012.5 | G53: 42727 | H53: 42825 | I53: 0
A54: Z421C857F9 | B54: 97538030582 | C54: Re.G.I.S.C.C. | D54: Acquisizione smart card per apparati cifranti del programma EATC | E54: 23-AFFIDAMENTO IN ECONOMIA - AFFIDAMENTO DIRETTO | F54: 600 | G54: 42725 | H54: 42825 | I54: 0
A55: Z861C0EF72 | B55: 97538030582 | C55: Re.G.I.S.C.C. | D55: Manutenzione ordinaria immobili | E55: 23-AFFIDAMENTO IN ECONOMIA - AFFIDAMENTO DIRETTO | F55: 162 | G55: 42697 | H55: 42704 | I55: 162
A56: ZD41C76DC6 | B56: 97538030582 | C56: Re.G.I.S.C.C. | D56: Acquisto rac da muro | E56: 23-AFFIDAMENTO IN ECONOMIA - AFFIDAMENTO DIRETTO | F56: 98 | G56: 42718 | H56: 42825 | I56: 0
A57: Z101CA30CF | B57: 97538030582 | C57: Re.G.I.S.C.C. | D57: Acquisto materiale dpi | E57: 23-AFFIDAMENTO IN ECONOMIA - AFFIDAMENTO DIRETTO | F57: 246 | G57: 42726 | H57: 42825 | I57: 0
A58: Z2F1C491FE | B58: 97538030582 | C58: Re.G.I.S.C.C. | D58: Certificazione per sviluppo web asp. Net mvc4 | E58: 08-AFFIDAMENTO IN ECONOMIA - COTTIMO FIDUCIARIO | F58: 1320 | G58: 42706 | H58: 42825 | I58: 0
A59: Z5721C87720 | B59: 97538030582 | C59: Re.G.I.S.C.C. | D59: Acquisizione materiale per potenziamento ITAF SECRET WAN | E59: 08-AFFIDAMENTO IN ECONOMIA - COTTIMO FIDUCIARIO | F59: 25466 | G59: 42719 | H59: 42825 | I59: 0
A60: Z741C79E6A | B60: 97538030582 | C60: Re.G.I.S.C.C. | D60: Acquisizione di un corso di addestramento del personale all'uso di autocad | E60: 23-AFFIDAMENTO IN ECONOMIA - AFFIDAMENTO DIRETTO | F60: 840 | G60: 42718 | H60: 42825 | I60: 0
A61: Z191C689E8 | B61: 97538030582 | C61: Re.G.I.S.C.C. | D61: Manutenzione e adeguamento sistemi UPS Regiscc a supporto del sistema ITAF SECRET WAN | E61: 08-AFFIDAMENTO IN ECONOMIA - COTTIMO FIDUCIARIO | F61: 6350 | G61: 42716 | H61: 42825 | I61: 0
A62: ZAA1C7DB0D | B62: 97538030582 | C62: Re.G.I.S.C.C. | D62: Acquisizione sow per implemntazione politiche di sicurezza su rete sensornet | E62: 08-AFFIDAMENTO IN ECONOMIA - COTTIMO FIDUCIARIO | F62: 8789.47 | G62: 42725 | H62: 42825 | I62: 0
A63: Z321C8DFC | B63: 97538030582 | C63: Re.G.I.S.C.C. | D63: ITAF SECRET WAN RINNOVO MAINTENANCE HW SW sistema di videoconferenza | E63: 08-AFFIDAMENTO IN ECONOMIA - COTTIMO FIDUCIARIO | F63: 15028.37 | G63: 42720 | H63: 42825 | I63: 0
A64: Z981C8DA06 | B64: 97538030582 | C64: Re.G.I.S.C.C. | D64: Acquisizione corsi e-learning sicurezza IT | E64: 23-AFFIDAMENTO IN ECONOMIA - AFFIDAMENTO DIRETTO | F64: 4712 | G64: 42732 | H64: 42825 | I64: 0
...

Sheet Foglio3
A1: cig | B1: codiceFiscale | C1: ragioneSociale | D1: identificativoFiscaleEstero | E1: aggiudicatario
A2: ZE719C1FD5 | B2: 08399381006 | C2: S.C.E. TELECOMUNICAZIONI | E2: x
A3: ZD219A467D | B3: 02912710602 | C3: BAGNETTI SISTEMI SRL. | E3: x
A4: 6696400C15 | B4: 07059981006 | C4: TELECONSYS SRL | E4: x
A5: 6680291E83 | B5: 0737690016 | C5: TELSY ELETTRONICA TELECOMUNICAZIONI SPA | E5: x
A6: ZB41B0AEF8 | B6: 08399381006 | C6: S.C.E. TELECOMUNICAZIONI | E6: x
A7: Z3F1A0C205 | B7: 02912710602 | C7: BAGNETTI SISTEMI SRL. | E7: x
A8: ZB81A5C1CA | B8: 03676480589 | C8: PROGESI SPA | E8: x
A9: Z721C2D05E | B9: 02912710602 | C9: BAGNETTI SISTEMI SRL. | E9: x
A10: ZF91A60A37 | B10: 10815820013 | C10: PROFESIA SRL | E10: x
A11: Z831AC9663 | B11: 08359330159 | C11: SELTA SPA | E11: x
A12: Z081A0C2E2 | B12: 12605051007 | C12: MILTECH SRL | E12: x
A13: Z1F1C7FA38 | B13: 04628790968 | C13: FELTRINELLI SRL | E13: x
A14: Z271B0AF34 | B14: 02019960398 | C14: BUSINESS-E SPA | E14: x
A15: Z6E1A3E7E3 | B15: 04104671005 | C15: TECNOPRAS SRL | E15: x
A16: Z091C9EB45 | B16: 07059981006 | C16: TELECONSYS SRL | E16: x
A17: 6910782DB4 | B17: 12628550159 | C17: THALES ITALIA SPA | E17: x
A18: Z351AB45A7 | B18: 07059981006 | C18: TELECONSYS SRL | E18: x
A19: Z021B5AAA0 | B19: 08359330159 | C19: SELTA SPA | E19: x
A20: 68597272CA | B20: 02912710602 | C20: BAGNETTI SISTEMI SRL. | E20: x
A21: ZDZ1B754C4 | B21: 00844040576 | C21: FABARIS SRL | E21: x
C22: LEIDOS INC. | D22: 30547584 | E22: x
A23: Z511B725CA | B23: 01720980992 | C23: LEONARDO S.I. SRL | E23: x
A24: 678960601F | B24: 11135661004 | C24: MAJOR BIT CONSULTING SRL | E24: x
A25: Z9E1BDB96B | B25: 00145180923 | C25: VITROCISET SPA | E25: x
A26: Z3E1B714E7 | B26: 03676480589 | C26: PROGESI SPA | E26: x
A27: 6789632592 | B27: 11135661004 | C27: MAJOR BIT CONSULTING SRL | E27: x
A28: 6856432AAB | B28: 11135661004 | C28: MAJOR BIT CONSULTING SRL | E28: x
A29: Z0E1BDD547 | B29: 02912710602 | C29: BAGNETTI SISTEMI SRL. | E29: x
A30: Z421B3C0F9 | B30: 01854180856 | C30: FC DISTRIBUTION SRL | E30: x
A31: Z321CAD8CF | B31: 08399381006 | C31: S.C.E. TELECOMUNICAZIONI | E31: x
A32: Z301B41558 | B32: 02912710602 | C32: BAGNETTI SISTEMI SRL. | E32: x
A33: Z691C92B7B | B33: 07059981006 | C33: TELECONSYS SRL | E33: x
A34: z2b1c880d6 | B34: 12628550159 | C34: THALES ITALIA SPA | E34: x
A35: ZBC1B19C70 | B35: 06166120581 | C35: BALCK BOX NETWORK SERVICES | E35: x
A36: Z3F1C6A0E5 | B36: 00844040576 | C36: FABARIS SRL | E36: x
A37: 68084384C6 | B37: 0737690016 | C37: TELSY ELETTRONICA TELECOMUNICAZIONI SPA | E37: x
A38: 68084230a7 | B38: 08399381006 | C38: S.C.E. TELECOMUNICAZIONI | E38: x
A39: Z821B75F1E | B39: 07059981006 | C39: TELECONSYS SRL | E39: x
A40: =Foglio2!A40 -> 68044390B3 | B40: 02328350018 | C40: SIPAL SPA | E40: x
...

Sheet Foglio4
A1: cig | B1: gruppo | C1: codiceFiscale | D1: ragioneSociale | E1: identificativoFiscaleEstero | F1: ruolo | G1: aggiudicatario

Sheet Foglio5
