Workbook
Name _Hlk35346957: Foglio2!$D$145
Name _Hlk36044554: Foglio2!$D$145
Name _Hlk39500954: Foglio2!$A$11
Name _Hlk40098208: Foglio2!$D$138
Name _Hlk41555663: Foglio3!$C$66
Name PROCEDURA: Foglio2!$E$2:$E$5

Sheet Foglio1
A1: titolo | B1: abstract | C1: dataPubbicazioneDataset | D1: entePubblicatore | E1: dataUltimoAggiornamentoDataset | F1: annoRiferimento | G1: urlFile | H1: licenza
A2: Pubblicazione Legge 190 | B2: Pubblicazione Legge 190 2020 | C2: 44592 | D2: REPARTO SISTEMI INFORMATIVI AUTOMATIZZATI | E2: 44586 | F2: 2021 | H2: IODL

Sheet Foglio2
A1: cig | B1: codiceFiscaleProp | C1: denominazione | D1: oggetto | E1: sceltaContraente | F1: importoAggiudicazione | G1: dataInizio | H1: dataUltimazione | I1: importoSommeLiquidate
A2: ZB2303A5D6 | B2: 80415130584 | C2: REPARTO SISTEMI INFORMATIVI AUTOMATIZZATI | D2: Approvvigionamento di 11.000 litri di gas liquido GPL per il funzionamento delle cucine e degli impianti termici del Reparto | E2: 23-AFFIDAMENTO DIRETTO | F2: 11000 | G2: 44215 | H2: 44398 | I2: 4040.07
A3: 8577545E0B | B3: 80415130584 | C3: REPARTO SISTEMI INFORMATIVI AUTOMATIZZATI | D3: Servizio di assistenza sistemistica on-site per il sistema Sentinet³ | E3: 23-AFFIDAMENTO DIRETTO | F3: 99000 | G3: 44222 | H3: 44561 | I3: 0
A4: 85965208B7 | B4: 80415130584 | C4: REPARTO SISTEMI INFORMATIVI AUTOMATIZZATI | D4: Pubblicazione degli esiti di aggiudicazione contratti pubblici | E4: 23-AFFIDAMENTO DIRETTO | F4: 2450.25 | G4: 44239 | H4: 44561 | I4: 0
A5: Z9A30778BD | B5: 80415130584 | C5: REPARTO SISTEMI INFORMATIVI AUTOMATIZZATI | D5: Servizi di conduzione e manutenzione impianti di depurazione liquami presso i sedimi di Acquasanta e di Forte Appia. | E5: 23-AFFIDAMENTO DIRETTO | F5: 518.65 | G5: 44236 | H5: 44537 | I5: 425.12
A6: Z57309CD6F | B6: 80415130584 | C6: REPARTO SISTEMI INFORMATIVI AUTOMATIZZATI | D6: Approvvigionamento di nr. 11.000 litri di gas liquido GPL per gli impianti di riscaldamento, acqua calda e cottura vitto | E6: 23-AFFIDAMENTO DIRETTO | F6: 10000 | G6: 44243 | H6: 44482 | I6: 4050.86
A7: 8625336C6D | B7: 80415130584 | C7: REPARTO SISTEMI INFORMATIVI AUTOMATIZZATI | D7: Intervento di riparazione per guasto tubazione GPL presso PG. 24 di Forte Appia. | E7: 33-PROCEDURA NEGOZIATA PER AFFIDAMENTI SOTTO SOGLIA | F7: 391.62 | G7: 44249 | H7: 44403 | I7: 321
A8: ZEC30BBD83 | B8: 80415130584 | C8: REPARTO SISTEMI INFORMATIVI AUTOMATIZZATI | D8: Approvvigionamento di nr. 6.000 litri di gasolio per funzionamento impianti termici del Reparto. | E8: 26-AFFIDAMENTO DIRETTO IN ADESIONE AD ACCORDO QUADRO/CONVENZIONE | F8: 5000 | G8: 44249 | H8: 44348 | I8: 2539.72
A9: Z0630DFADD | B9: 80415130584 | C9: REPARTO SISTEMI INFORMATIVI AUTOMATIZZATI | D9: Approvvigionamento di nr. 11.000 litri di gas liquido GPL per gli impianti di riscaldamento, acqua calda e cottura vitto | E9: 23-AFFIDAMENTO DIRETTO | F9: 10000 | G9: 44259 | H9: 44482 | I9: 4107.13
A10: ZEE3079157 | B10: 80415130584 | C10: REPARTO SISTEMI INFORMATIVI AUTOMATIZZATI | D10: Realizzazione di elaborati grafici e documentazione tecnica per lo scarico delle acque reflue dell’impianto di depurazione di Forte Appia | E10: 23-AFFIDAMENTO DIRETTO | F10: 1195.72 | G10: 44259 | H10: 44425 | I10: 980.1
A11: 8543107AE9 | B11: 80415130584 | C11: REPARTO SISTEMI INFORMATIVI AUTOMATIZZATI | D11: Acquisizione di un servizio di manutenzione preventiva, correttiva e di garanzia assicurativa dei sistemi/impianti di stabilizzazione termica e continuità elettrica del comparto meteo. | E11: 33-PROCEDURA NEGOZIATA PER AFFIDAMENTI SOTTO SOGLIA | F11: 39798 | G11: 44246 | H11: 44417 | I11: 19899
A12: 8634410C87 | B12: 80415130584 | C12: REPARTO SISTEMI INFORMATIVI AUTOMATIZZATI | D12: intervento per l’effettuazione di sanificazione di impianti idrici presso il PG 5 Forte Appia e PG 16 Acquasanta | E12: 23-AFFIDAMENTO DIRETTO | F12: 6385.03 | G12: 44265 | H12: 44403 | I12: 5233.63
A13: Z4530D5384 | B13: 80415130584 | C13: REPARTO SISTEMI INFORMATIVI AUTOMATIZZATI | D13: Acquisizione materiale vario per regolamentazione viabilità. | E13: 23-AFFIDAMENTO DIRETTO | F13: 383.37 | G13: 44264 | H13: 44403 | I13: 307.99
... A17: Z193118604 | B17: 80415130584 | C17: REPARTO SISTEMI INFORMATIVI AUTOMATIZZATI | D17: Acquisizione di materiale di imballaggio | E17: 23-AFFIDAMENTO DIRETTO | F17: 587.1 | G17: 44286 | H17: 44425 | I17: 481.23
A18: 8678898532 | B18: 80415130584 | C18: REPARTO SISTEMI INFORMATIVI AUTOMATIZZATI | D18: Acquisizione di materiale per pulizia/sanificazione/disinfezione | E18: 23-AFFIDAMENTO DIRETTO | F18: 2463.19 | G18: 44292 | H18: 44425 | I18: 444.18
A19: ZB73106920 | B19: 80415130584 | C19: REPARTO SISTEMI INFORMATIVI AUTOMATIZZATI | D19: Acquisizione materiale per manutenzione gruppi elettrogeni di Reparto | E19: 23-AFFIDAMENTO DIRETTO | F19: 703.05 | G19: 44293 | H19: 44425 | I19: 576.26
A20: 8643099EEA | B20: 80415130584 | C20: REPARTO SISTEMI INFORMATIVI AUTOMATIZZATI | D20: Servizi di conduzione e manutenzione periodica degli impianti di depurazione liquami | E20: 33-PROCEDURA NEGOZIATA PER AFFIDAMENTI SOTTO SOGLIA | F20: 20000 | G20: 44293 | H20: 44559 | I20: 7799.47
A21: Z9E314177B | B21: 80415130584 | C21: REPARTO SISTEMI INFORMATIVI AUTOMATIZZATI | D21: Acquisizione del servizio di pulizie ed igiene ambientale per i mesi di Febbraio - Marzo e Aprile 2021 finalizzato a combattere la diffusione del Covid-19 | E21: 23-AFFIDAMENTO DIRETTO | F21: 12334.2 | G21: 44293 | H21: 44362 | I21: 6328.46
A22: ZA731675E0 | B22: 80415130584 | C22: REPARTO SISTEMI INFORMATIVI AUTOMATIZZATI | D22: Acquisizione di dispositivi Personal Computer Desktop per esercitazione VEGA 2021 | E22: 26-AFFIDAMENTO DIRETTO IN ADESIONE AD ACCORDO QUADRO/CONVENZIONE | F22: 29865.6 | G22: 44306 | H22: 44559 | I22: 24480
A23: ZF4315BEB1 | B23: 80415130584 | C23: REPARTO SISTEMI INFORMATIVI AUTOMATIZZATI | D23: Approvvigionamento di nr. 6.000 litri di gasolio per funzionamento impianti termici del Reparto | E23: 26-AFFIDAMENTO DIRETTO IN ADESIONE AD ACCORDO QUADRO/CONVENZIONE | F23: 5000 | G23: 44306 | H23: 44348 | I23: 2560.3
A24: ZCD318E7DA | B24: 80415130584 | C24: REPARTO SISTEMI INFORMATIVI AUTOMATIZZATI | D24: Procedura negoziata finalizzata all’acquisizione di nr. 6.700 litri di gas liquido GPL per gli impianti di riscaldamento, acqua calda e cottura vitto. | E24: 26-AFFIDAMENTO DIRETTO IN ADESIONE AD ACCORDO QUADRO/CONVENZIONE | F24: 7000 | G24: 44319 | H24: 44466 | I24: 2484.15
A25: Z213193DDB | B25: 80415130584 | C25: REPARTO SISTEMI INFORMATIVI AUTOMATIZZATI | D25: Acquisizione del servizio di pulizie ed igiene ambientale per Il mese di maggio 2021 finalizzato a combattere la diffusione del Covid-19 | E25: =$E$21 -> 23-AFFIDAMENTO DIRETTO | F25: 4111.4 | G25: 44319 | H25: 44425 | I25: 3164.23
A26: 870063899B | B26: 80415130584 | C26: REPARTO SISTEMI INFORMATIVI AUTOMATIZZATI | D26: Acquisizione di materiale per la manutenzione impianti elettrici di Reparto, | E26: 33-PROCEDURA NEGOZIATA PER AFFIDAMENTI SOTTO SOGLIA | F26: 2226 | G26: 44320 | H26: 44515 | I26: 1824.59
A27: 8681546E62 | B27: 80415130584 | C27: REPARTO SISTEMI INFORMATIVI AUTOMATIZZATI | D27: Approvvigionamento di distruggi-documenti per documentazione alta classifica. | E27: 33-PROCEDURA NEGOZIATA PER AFFIDAMENTI SOTTO SOGLIA | F27: 5739.47 | G27: 44328 | H27: 44425 | I27: 4704.48
A28: 86406856D4 | B28: 80415130584 | C28: REPARTO SISTEMI INFORMATIVI AUTOMATIZZATI | D28: Servizio di manutenzione straordinaria impianti UPS del Comparto Meteo di Pratica di Mare | E28: 33-PROCEDURA NEGOZIATA PER AFFIDAMENTI SOTTO SOGLIA | F28: 137600 | G28: 44335 | H28: 44524 | I28: 137600
A29: Z82319550F | B29: 80415130584 | C29: REPARTO SISTEMI INFORMATIVI AUTOMATIZZATI | D29: Acquisizione carta formato A4 | E29: =$E$21 -> 23-AFFIDAMENTO DIRETTO | F29: 980.64 | G29: 44335 | H29: 44475 | I29: 803.8
A30: Z3431CFA08 | B30: 80415130584 | C30: REPARTO SISTEMI INFORMATIVI AUTOMATIZZATI | D30: Intervento di sfalcio erba presso il sedime di Acquasanta | E30: =$E$21 -> 23-AFFIDAMENTO DIRETTO | F30: 2642.54 | G30: 44337 | H30: 44467 | I30: 2166.02
A31: Z1731CC422 | B31: 80415130584 | C31: REPARTO SISTEMI INFORMATIVI AUTOMATIZZATI | D31: Intervento di disinfestazione presso il Circolo Unificato | E31: =$E$21 -> 23-AFFIDAMENTO DIRETTO | F31: 555.43 | G31: 44336 | H31: 44546 | I31: 455.27
A32: Z08319D3FE | B32: 80415130584 | C32: REPARTO SISTEMI INFORMATIVI AUTOMATIZZATI | D32: Fornitura di generi di conforto per il personale in servizio notturno, di guardia e/o vigilanza | E32: =$E$21 -> 23-AFFIDAMENTO DIRETTO | F32: 946.98 | G32: 44348 | H32: 44518 | I32: 821.33
A33: ZD732084C7 | B33: 80415130584 | C33: REPARTO SISTEMI INFORMATIVI AUTOMATIZZATI | D33: Acquisizione del servizio di pulizie ed igiene ambientale finalizzato a combattere la diffusione del Covid-19 per il mese di giugno 2021. | E33: =$E$21 -> 23-AFFIDAMENTO DIRETTO | F33: 4111.4 | G33: 44355 | H33: 44425 | I33: 3164.23
A34: Z6B31B44DC | B34: 80415130584 | C34: REPARTO SISTEMI INFORMATIVI AUTOMATIZZATI | D34: Acquisizione di nr. 11 buoni libro da destinare al personale civile | E34: 33-PROCEDURA NEGOZIATA PER AFFIDAMENTI SOTTO SOGLIA | F34: 385 | G34: 44356 | H34: 44425 | I34: 385
A35: 8731842FF4 | B35: 80415130584 | C35: REPARTO SISTEMI INFORMATIVI AUTOMATIZZATI | D35: Acquisizione di figure specialistiche per l’adeguamento degli aspetti di sicurezza informatica del sistema integrato climatologia Aeronautica Militare (SICAM). | E35: 33-PROCEDURA NEGOZIATA PER AFFIDAMENTI SOTTO SOGLIA | F35: 59940 | G35: 44358 | H35: 44539 | I35: 59940
A36: 877321915A | B36: 80415130584 | C36: REPARTO SISTEMI INFORMATIVI AUTOMATIZZATI | D36: Acquisizione del servizio di assistenza sistemistica del tool di sicurezza cibernetica IBM QRadar di dotazione del Reparto | E36: 33-PROCEDURA NEGOZIATA PER AFFIDAMENTI SOTTO SOGLIA | F36: 5134.06 | G36: 44362 | H36: 44558 | I36: 4208.24
A37: 8773591455 | B37: 80415130584 | C37: REPARTO SISTEMI INFORMATIVI AUTOMATIZZATI | D37: Acquisizione del servizio di assistenza sistemistica ALLOT | E37: 33-PROCEDURA NEGOZIATA PER AFFIDAMENTI SOTTO SOGLIA | F37: 5737.12 | G37: 44362 | H37: 44558 | I37: 4702.56
A38: 8685014C45 | B38: 80415130584 | C38: REPARTO SISTEMI INFORMATIVI AUTOMATIZZATI | D38: servizio di assistenza sistemistica per Active Directory ed SCCM/MECM | E38: =$E$37 -> 33-PROCEDURA NEGOZIATA PER AFFIDAMENTI SOTTO SOGLIA | F38: 93874.55 | G38: 44378 | H38: 44561 | I38: 0
A39: 8678914267 | B39: 80415130584 | C39: REPARTO SISTEMI INFORMATIVI AUTOMATIZZATI | D39: servizi di assistenza sistemistica per il potenziamento del supporto alla gestione operativa della piattaforma di Supercalcolo. Programma Very High Resolution Forecast. | E39: =$E$37 -> 33-PROCEDURA NEGOZIATA PER AFFIDAMENTI SOTTO SOGLIA | F39: 323671 | G39: 44363 | H39: 44561 | I39: 0
A40: 87452887F4 | B40: 80415130584 | C40: REPARTO SISTEMI INFORMATIVI AUTOMATIZZATI | D40: servizio di assistenza sistemistica per i servizi di comunicazione (posta elettronica MS Exchange e MS Skype for Business). | E40: =$E$37 -> 33-PROCEDURA NEGOZIATA PER AFFIDAMENTI SOTTO SOGLIA | F40: 71880.51 | G40: 44379 | H40: 44561 | I40: 0
A41: 8745621AC0 | B41: 80415130584 | C41: REPARTO SISTEMI INFORMATIVI AUTOMATIZZATI | D41: servizio di manutenzione assicurativa per l’hardware dedicato alla piattaforma di supercalcolo del comparto meteorologico dell’Aeronautica Militare | E41: =$E$37 -> 33-PROCEDURA NEGOZIATA PER AFFIDAMENTI SOTTO SOGLIA | F41: 201617.5 | G41: 44384 | H41: 44561 | I41: 0
A42: 8772589973 | B42: 80415130584 | C42: REPARTO SISTEMI INFORMATIVI AUTOMATIZZATI | D42: Acquisizione assistenza sistemistica SKYBOX | E42: =$E$37 -> 33-PROCEDURA NEGOZIATA PER AFFIDAMENTI SOTTO SOGLIA | F42: 5799.86 | G42: 44379 | H42: 44553 | I42: 4753.98
A43: 865948838F | B43: 80415130584 | C43: REPARTO SISTEMI INFORMATIVI AUTOMATIZZATI | D43: Rinnovo licenze Software Area C2– VoIP Class, | E43: =$E$37 -> 33-PROCEDURA NEGOZIATA PER AFFIDAMENTI SOTTO SOGLIA | F43: 60276.54 | G43: 44382 | H43: 44559 | I43: 49407
...

Sheet Foglio3
A1: cig | B1: codiceFiscale | C1: ragioneSociale | D1: identificativoFiscaleEstero | E1: aggiudicatario
A2: =Foglio2!A2 -> ZB2303A5D6 | B2: 443130588 | C2: BUTANGAS S.p.A | E2: x
A3: 8577545E0B | B3: 4991991003 | C3: FATA INFORMATICA | E3: x
A4: Z9A30778BD | B4: 8251881002 | C4: SALUBER '04 SRL | E4: x
A5: Z57309CD6F | B5: 443130588 | C5: BUTANGAS S.p.A | E5: x
A6: 8625336C6D | B6: 11792031004 | C6: TERMOELETTRICA IMPIANTI S.A.S. DI CELLI CRISTIANO & C | E6: x
A7: 8625336C6D | B7: 10769471003 | C7: NUOVA GAROFOLI SRL
A8: ZEC30BBD83 | B8: 1252710403 | C8: BRONCHI COMBUSTIBILI | E8: x
A9: Z0630DFADD | B9: 443130588 | C9: BUTANGAS S.p.A | E9: x
A10: ZEE3079157 | B10: O3930360585 | C10: CIANA | E10: x
A11: 8543107AE9 | B11: SMPMRZ66R26H501I | C11: SAMPETRO MAURIZIO | E11: x
A12: 8634410C87 | B12: 4156061006 | C12: FIROTEK S.r.l. | E12: x
A13: Z4530D5384 | B13: OO716000583 | C13: SFAP Srl | E13: x
A14: 8617701FD2 | B14: 10769471003 | C14: NUOVA GAROFOLI SRL | E14: x
A15: 8617701FD2 | B15: 6363471001 | C15: TEELCOND IMPIANTI
A16: 8617701FD2 | B16: 3801151006 | C16: VITALE IMPIANTI
A17: 86291442E6. | B17: O827213007 | C17: PORTA NEOLA | E17: x
A18: Z95311F9CC | B18: 443130588 | C18: BUTANGAS S.p.A | E18: x
A19: Z193118604 | B19: 3351040583 | C19: CCG | E19: x
A20: 8678898532 | B20: 3351040583 | C20: CCG | E20: x
A21: ZB73106920 | B21: 9301301009 | C21: BIKAPPAESSE | E21: x
A22: 8643099EEA | B22: O3930360585 | C22: CIANA | E22: x
A23: 8643099EEA | B23: 8251881002 | C23: SALUBER '04 SRL
A24: Z9E314177B | B24: OO505590224 | C24: MIORELLI SERVICE | E24: X
A25: ZA731675E0 | B25: O8619670584 | C25: ITALWARE | E25: X
A26: ZF4315BEB1 | B26: 1252710403 | C26: BRONCHI COMBUSTIBILI | E26: X
A27: ZCD318E7DA | B27: 443130588 | C27: BUTANGAS S.p.A | E27: x
A28: Z213193DDB | B28: OO505590224 | C28: MIORELLI SERVICE | E28: X
A29: 870063899B | B29: 825330285 | C29: SONEPAR ITALIA | E29: x
A30: 8681546E62 | B30: 8503910583 | C30: TECNOFASTEN DI GATTI FABIO & C. S.N.C | E30: x
A31: 86406856D4 | B31: O7018000583 | C31: CGT ELETTRONICA | E31: X
A32: 86406856D4 | B32: O7879381007 | C32: DEAL IMPIANTI
A33: Z82319550F | B33: 3351040583 | C33: CCG | E33: x
A34: Z3431CFA08 | B34: O5618001001 | C34: GLOBAL SERVICE AMBIENTE SRL | E34: x
A35: Z1731CC422 | B35: O3930360585 | C35: CIANA | E35: x
A36: Z08319D3FE | B36: FSUFRC77L24H501R | C36: GRF di Federico Fusà | E36: x
A37: ZD732084C7 | B37: OO505590224 | C37: MIORELLI SERVICE | E37: X
A38: Z6B31B44DC | B38: 7954120965 | C38: LIBRERIA GIUNTI | E38: x
A39: 8731842FF4 | B39: 03188950103 | C39: Dedagroup Public Services S.r.l | E39: X
A40: 877321915A | B40: OO844040576 | C40: FABARIS | E40: X
...

Sheet Foglio4
A1: cig | B1: gruppo | C1: codiceFiscale | D1: ragioneSociale | E1: identificativoFiscaleEstero | F1: ruolo | G1: aggiudicatario

Sheet Foglio5
