Workbook
Name _Hlk35346957: Foglio2!$D$145
Name _Hlk36044554: Foglio2!$D$145
Name _Hlk39500954: Foglio2!$A$11
Name _Hlk40098208: Foglio2!$D$138
Name _Hlk41555663: Foglio3!$C$66
Name PROCEDURA: Foglio2!$E$2:$E$5

Sheet Foglio1
A1: titolo | B1: abstract | C1: dataPubbicazioneDataset | D1: entePubblicatore | E1: dataUltimoAggiornamentoDataset | F1: annoRiferimento | G1: urlFile | H1: licenza
A2: Pubblicazione Legge 190 | B2: Pubblicazione Legge 190 2020 | C2: 44592 | D2: REPARTO SISTEMI INFORMATIVI AUTOMATIZZATI | E2: 44586 | F2: 2021 | H2: IODL

Sheet Foglio2
A1: cig | B1: codiceFiscaleProp | C1: denominazione | D1: oggetto | E1: sceltaContraente | F1: importoAggiudicazione | G1: dataInizio | H1: dataUltimazione | I1: importoSommeLiquidate
A2: ZB2303A5D6 | B2: 80415130584 | C2: REPARTO SISTEMI INFORMATIVI AUTOMATIZZATI | D2: Approvvigionamento di 11.000 litri di gas liquido GPL per il funzionamento delle cucine e degli impianti termici del Reparto | E2: 23-AFFIDAMENTO DIRETTO | F2: 11000 | G2: 44215 | H2: 44398 | I2: 4040.07
A3: 8577545E0B | B3: 80415130584 | C3: REPARTO SISTEMI INFORMATIVI AUTOMATIZZATI | D3: Servizio di assistenza sistemistica on-site per il sistema Sentinet³ | E3: 23-AFFIDAMENTO DIRETTO | F3: 99000 | G3: 44222 | H3: 44561 | I3: 0
A4: 85965208B7 | B4: 80415130584 | C4: REPARTO SISTEMI INFORMATIVI AUTOMATIZZATI | D4: Pubblicazione degli esiti di aggiudicazione contratti pubblici | E4: 23-AFFIDAMENTO DIRETTO | F4: 2450.25 | G4: 44239 | H4: 44561 | I4: 0
A5: Z9A30778BD | B5: 80415130584 | C5: REPARTO SISTEMI INFORMATIVI AUTOMATIZZATI | D5: Servizi di conduzione e manutenzione impianti di depurazione liquami presso i sedimi di Acquasanta e di Forte Appia. | E5: 23-AFFIDAMENTO DIRETTO | F5: 518.65 | G5: 44236 | H5: 44537 | I5: 425.12
A6: Z57309CD6F | B6: 80415130584 | C6: REPARTO SISTEMI INFORMATIVI AUTOMATIZZATI | D6: Approvvigionamento di nr. 11.000 litri di gas liquido GPL per gli impianti di riscaldamento, acqua calda e cottura vitto | E6: 23-AFFIDAMENTO DIRETTO | F6: 10000 | G6: 44243 | H6: 44482 | I6: 4050.86
A7: 8625336C6D | B7: 80415130584 | C7: REPARTO SISTEMI INFORMATIVI AUTOMATIZZATI | D7: Intervento di riparazione per guasto tubazione GPL presso PG. 24 di Forte Appia. | E7: 33-PROCEDURA NEGOZIATA PER AFFIDAMENTI SOTTO SOGLIA | F7: 391.62 | G7: 44249 | H7: 44403 | I7: 321
A8: ZEC30BBD83 | B8: 80415130584 | C8: REPARTO SISTEMI INFORMATIVI AUTOMATIZZATI | D8: Approvvigionamento di nr. 6.000 litri di gasolio per funzionamento impianti termici del Reparto. | E8: 26-AFFIDAMENTO DIRETTO IN ADESIONE AD ACCORDO QUADRO/CONVENZIONE | F8: 5000 | G8: 44249 | H8: 44348 | I8: 2539.72
A9: Z0630DFADD | B9: 80415130584 | C9: REPARTO SISTEMI INFORMATIVI AUTOMATIZZATI | D9: Approvvigionamento di nr. 11.000 litri di gas liquido GPL per gli impianti di riscaldamento, acqua calda e cottura vitto | E9: 23-AFFIDAMENTO DIRETTO | F9: 10000 | G9: 44259 | H9: 44482 | I9: 4107.13
A10: ZEE3079157 | B10: 80415130584 | C10: REPARTO SISTEMI INFORMATIVI AUTOMATIZZATI | D10: Realizzazione di elaborati grafici e documentazione tecnica per lo scarico delle acque reflue dell’impianto di depurazione di Forte Appia | E10: 23-AFFIDAMENTO DIRETTO | F10: 1195.72 | G10: 44259 | H10: 44425 | I10: 980.1
A11: 8543107AE9 | B11: 80415130584 | C11: REPARTO SISTEMI INFORMATIVI AUTOMATIZZATI | D11: Acquisizione di un servizio di manutenzione preventiva, correttiva e di garanzia assicurativa dei sistemi/impianti di stabilizzazione termica e continuità elettrica del comparto meteo. | E11: 33-PROCEDURA NEGOZIATA PER AFFIDAMENTI SOTTO SOGLIA | F11: 39798 | G11: 44246 | H11: 44417 | I11: 19899
A12: 8634410C87 | B12: 80415130584 | C12: REPARTO SISTEMI INFORMATIVI AUTOMATIZZATI | D12: intervento per l’effettuazione di sanificazione di impianti idrici presso il PG 5 Forte Appia e PG 16 Acquasanta | E12: 23-AFFIDAMENTO DIRETTO | F12: 6385.03 | G12: 44265 | H12: 44403 | I12: 5233.63
A13: Z4530D5384 | B13: 80415130584 | C13: REPARTO SISTEMI INFORMATIVI AUTOMATIZZATI | D13: Acquisizione materiale vario per regolamentazione viabilità. | E13: 23-AFFIDAMENTO DIRETTO | F13: 383.37 | G13: 44264 | H13: 44403 | I13: 307.99
... A17: Z193118604 | B17: 80415130584 | C17: REPARTO SISTEMI INFORMATIVI AUTOMATIZZATI | D17: Acquisizione di materiale di imballaggio | E17: 23-AFFIDAMENTO DIRETTO | F17: 587.1 | G17: 44286 | H17: 44425 | I17: 481.23
A18: 8678898532 | B18: 80415130584 | C18: REPARTO SISTEMI INFORMATIVI AUTOMATIZZATI | D18: Acquisizione di materiale per pulizia/sanificazione/disinfezione | E18: 23-AFFIDAMENTO DIRETTO | F18: 2463.19 | G18: 44292 | H18: 44425 | I18: 444.18
A19: ZB73106920 | B19: 80415130584 | C19: REPARTO SISTEMI INFORMATIVI AUTOMATIZZATI | D19: Acquisizione materiale per manutenzione gruppi elettrogeni di Reparto | E19: 23-AFFIDAMENTO DIRETTO | F19: 703.05 | G19: 44293 | H19: 44425 | I19: 576.26
A20: 8643099EEA | B20: 80415130584 | C20: REPARTO SISTEMI INFORMATIVI AUTOMATIZZATI | D20: Servizi di conduzione e manutenzione periodica degli impianti di depurazione liquami | E20: 33-PROCEDURA NEGOZIATA PER AFFIDAMENTI SOTTO SOGLIA | F20: 20000 | G20: 44293 | H20: 44559 | I20: 7799.47
A21: Z9E314177B | B21: 80415130584 | C21: REPARTO SISTEMI INFORMATIVI AUTOMATIZZATI | D21: Acquisizione del servizio di pulizie ed igiene ambientale per i mesi di Febbraio - Marzo e Aprile 2021 finalizzato a combattere la diffusione del Covid-19 | E21: 23-AFFIDAMENTO DIRETTO | F21: 12334.2 | G21: 44293 | H21: 44362 | I21: 6328.46
A22: ZA731675E0 | B22: 80415130584 | C22: REPARTO SISTEMI INFORMATIVI AUTOMATIZZATI | D22: Acquisizione di dispositivi Personal Computer Desktop per esercitazione VEGA 2021 | E22: 26-AFFIDAMENTO DIRETTO IN ADESIONE AD ACCORDO QUADRO/CONVENZIONE | F22: 29865.6 | G22: 44306 | H22: 44559 | I22: 24480
A23: ZF4315BEB1 | B23: 80415130584 | C23: REPARTO SISTEMI INFORMATIVI AUTOMATIZZATI | D23: Approvvigionamento di nr. 6.000 litri di gasolio per funzionamento impianti termici del Reparto | E23: 26-AFFIDAMENTO DIRETTO IN ADESIONE AD ACCORDO QUADRO/CONVENZIONE | F23: 5000 | G23: 44306 | H23: 44348 | I23: 2560.3
A24: ZCD318E7DA | B24: 80415130584 | C24: REPARTO SISTEMI INFORMATIVI AUTOMATIZZATI | D24: Procedura negoziata finalizzata all’acquisizione di nr. 6.700 litri di gas liquido GPL per gli impianti di riscaldamento, acqua calda e cottura vitto. | E24: 26-AFFIDAMENTO DIRETTO IN ADESIONE AD ACCORDO QUADRO/CONVENZIONE | F24: 7000 | G24: 44319 | H24: 44466 | I24: 2484.15
A25: Z213193DDB | B25: 80415130584 | C25: REPARTO SISTEMI INFORMATIVI AUTOMATIZZATI | D25: Acquisizione del servizio di pulizie ed igiene ambientale per Il mese di maggio 2021 finalizzato a combattere la diffusione del Covid-19 | E25: =$E$21 -> 23-AFFIDAMENTO DIRETTO | F25: 4111.4 | G25: 44319 | H25: 44425 | I25: 3164.23
A26: 870063899B | B26: 80415130584 | C26: REPARTO SISTEMI INFORMATIVI AUTOMATIZZATI | D26: Acquisizione di materiale per la manutenzione impianti elettrici di Reparto, | E26: 33-PROCEDURA NEGOZIATA PER AFFIDAMENTI SOTTO SOGLIA | F26: 2226 | G26: 44320 | H26: 44515 | I26: 1824.59
A27: 8681546E62 | B27: 80415130584 | C27: REPARTO SISTEMI INFORMATIVI AUTOMATIZZATI | D27: Approvvigionamento di distruggi-documenti per documentazione alta classifica. | E27: 33-PROCEDURA NEGOZIATA PER AFFIDAMENTI SOTTO SOGLIA | F27: 5739.47 | G27: 44328 | H27: 44425 | I27: 4704.48
A28: 86406856D4 | B28: 80415130584 | C28: REPARTO SISTEMI INFORMATIVI AUTOMATIZZATI | D28: Servizio di manutenzione straordinaria impianti UPS del Comparto Meteo di Pratica di Mare | E28: 33-PROCEDURA NEGOZIATA PER AFFIDAMENTI SOTTO SOGLIA | F28: 137600 | G28: 44335 | H28: 44524 | I28: 137600
A29: Z82319550F | B29: 80415130584 | C29: REPARTO SISTEMI INFORMATIVI AUTOMATIZZATI | D29: Acquisizione carta formato A4 | E29: =$E$21 -> 23-AFFIDAMENTO DIRETTO | F29: 980.64 | G29: 44335 | H29: 44475 | I29: 803.8
A30: Z3431CFA08 | B30: 80415130584 | C30: REPARTO SISTEMI INFORMATIVI AUTOMATIZZATI | D30: Intervento di sfalcio erba presso il sedime di Acquasanta | E30: =$E$21 -> 23-AFFIDAMENTO DIRETTO | F30: 2642.54 | G30: 44337 | H30: 44467 | I30: 2166.02
A31: Z1731CC422 | B31: 80415130584 | C31: REPARTO SISTEMI INFORMATIVI AUTOMATIZZATI | D31: Intervento di disinfestazione presso il Circolo Unificato | E31: =$E$21 -> 23-AFFIDAMENTO DIRETTO | F31: 555.43 | G31: 44336 | H31: 44546 | I31: 455.27
A32: Z08319D3FE | B32: 80415130584 | C32: REPARTO SISTEMI INFORMATIVI AUTOMATIZZATI | D32: Fornitura di generi di conforto per il personale in servizio notturno, di guardia e/o vigilanza | E32: =$E$21 -> 23-AFFIDAMENTO DIRETTO | F32: 946.98 | G32: 44348 | H32: 44518 | I32: 821.33
A33: ZD732084C7 | B33: 80415130584 | C33: REPARTO SISTEMI INFORMATIVI AUTOMATIZZATI | D33: Acquisizione del servizio di pulizie ed igiene ambientale finalizzato a combattere la diffusione del Covid-19 per il mese di giugno 2021. | E33: =$E$21 -> 23-AFFIDAMENTO DIRETTO | F33: 4111.4 | G33: 44355 | H33: 44425 | I33: 3164.23
A34: Z6B31B44DC | B34: 80415130584 | C34: REPARTO SISTEMI INFORMATIVI AUTOMATIZZATI | D34: Acquisizione di nr. 11 buoni libro da destinare al personale civile | E34: 33-PROCEDURA NEGOZIATA PER AFFIDAMENTI SOTTO SOGLIA | F34: 385 | G34: 44356 | H34: 44425 | I34: 385
A35: 8731842FF4 | B35: 80415130584 | C35: REPARTO SISTEMI INFORMATIVI AUTOMATIZZATI | D35: Acquisizione di figure specialistiche per l’adeguamento degli aspetti di sicurezza informatica del sistema integrato climatologia Aeronautica Militare (SICAM). | E35: 33-PROCEDURA NEGOZIATA PER AFFIDAMENTI SOTTO SOGLIA | F35: 59940 | G35: 44358 | H35: 44539 | I35: 59940
A36: 877321915A | B36: 80415130584 | C36: REPARTO SISTEMI INFORMATIVI AUTOMATIZZATI | D36: Acquisizione del servizio di assistenza sistemistica del tool di sicurezza cibernetica IBM QRadar di dotazione del Reparto | E36: 33-PROCEDURA NEGOZIATA PER AFFIDAMENTI SOTTO SOGLIA | F36: 5134.06 | G36: 44362 | H36: 44558 | I36: 4208.24
A37: 8773591455 | B37: 80415130584 | C37: REPARTO SISTEMI INFORMATIVI AUTOMATIZZATI | D37: Acquisizione del servizio di assistenza sistemistica ALLOT | E37: 33-PROCEDURA NEGOZIATA PER AFFIDAMENTI SOTTO SOGLIA | F37: 5737.12 | G37: 44362 | H37: 44558 | I37: 4702.56
A38: 8685014C45 | B38: 80415130584 | C38: REPARTO SISTEMI INFORMATIVI AUTOMATIZZATI | D38: servizio di assistenza sistemistica per Active Directory ed SCCM/MECM | E38: =$E$37 -> 33-PROCEDURA NEGOZIATA PER AFFIDAMENTI SOTTO SOGLIA | F38: 93874.55 | G38: 44378 | H38: 44561 | I38: 0
A39: 8678914267 | B39: 80415130584 | C39: REPARTO SISTEMI INFORMATIVI AUTOMATIZZATI | D39: servizi di assistenza sistemistica per il potenziamento del supporto alla gestione operativa della piattaforma di Supercalcolo. Programma Very High Resolution Forecast. | E39: =$E$37 -> 33-PROCEDURA NEGOZIATA PER AFFIDAMENTI SOTTO SOGLIA | F39: 323671 | G39: 44363 | H39: 44561 | I39: 0
A40: 87452887F4 | B40: 80415130584 | C40: REPARTO SISTEMI INFORMATIVI AUTOMATIZZATI | D40: servizio di assistenza sistemistica per i servizi di comunicazione (posta elettronica MS Exchange e MS Skype for Business). | E40: =$E$37 -> 33-PROCEDURA NEGOZIATA PER AFFIDAMENTI SOTTO SOGLIA | F40: 71880.51 | G40: 44379 | H40: 44561 | I40: 0
A41: 8745621AC0 | B41: 80415130584 | C41: REPARTO SISTEMI INFORMATIVI AUTOMATIZZATI | D41: servizio di manutenzione assicurativa per l’hardware dedicato alla piattaforma di supercalcolo del comparto meteorologico dell’Aeronautica Militare | E41: =$E$37 -> 33-PROCEDURA NEGOZIATA PER AFFIDAMENTI SOTTO SOGLIA | F41: 201617.5 | G41: 44384 | H41: 44561 | I41: 0
A42: 8772589973 | B42: 80415130584 | C42: REPARTO SISTEMI INFORMATIVI AUTOMATIZZATI | D42: Acquisizione assistenza sistemistica SKYBOX | E42: =$E$37 -> 33-PROCEDURA NEGOZIATA PER AFFIDAMENTI SOTTO SOGLIA | F42: 5799.86 | G42: 44379 | H42: 44553 | I42: 4753.98
A43: 865948838F | B43: 80415130584 | C43: REPARTO SISTEMI INFORMATIVI AUTOMATIZZATI | D43: Rinnovo licenze Software Area C2– VoIP Class, | E43: =$E$37 -> 33-PROCEDURA NEGOZIATA PER AFFIDAMENTI SOTTO SOGLIA | F43: 60276.54 | G43: 44382 | H43: 44559 | I43: 49407
A44: Z8331E4040 | B44: 80415130584 | C44: REPARTO SISTEMI INFORMATIVI AUTOMATIZZATI | D44: Rinnovo licenze software Area C2 – Software C2 Sviluppati | E44: =$E$43 -> 33-PROCEDURA NEGOZIATA PER AFFIDAMENTI SOTTO SOGLIA | F44: 4989.42 | G44: 44389 | H44: 44496 | I44: 4089.69
A45: 8745230817 | B45: 80415130584 | C45: REPARTO SISTEMI INFORMATIVI AUTOMATIZZATI | D45: Rinnovo licenze software Area C2 – Tool Amministrazione | E45: =$E$43 -> 33-PROCEDURA NEGOZIATA PER AFFIDAMENTI SOTTO SOGLIA | F45: 29874.94 | G45: 44389 | H45: 44496 | I45: 24487.65
A46: 8727728CFA | B46: 80415130584 | C46: REPARTO SISTEMI INFORMATIVI AUTOMATIZZATI | D46: Acquisizione di un servizio di assistenza sistemistica – Esercitazione NATO CWIX 2021 | E46: =$E$21 -> 23-AFFIDAMENTO DIRETTO | F46: 9900 | G46: 44390 | H46: 44559 | I46: 9900
A47: ZF6327003E | B47: 80415130584 | C47: REPARTO SISTEMI INFORMATIVI AUTOMATIZZATI | D47: acquisizione di nr. 5.000 litri di gas liquido GPL per gli impianti di riscaldamento, acqua calda e cottura vitto. | E47: 26-AFFIDAMENTO DIRETTO IN ADESIONE AD ACCORDO QUADRO/CONVENZIONE | F47: 5000 | G47: 44393 | H47: 44482 | I47: 1903.16
A48: ZA232325CD | B48: 80415130584 | C48: REPARTO SISTEMI INFORMATIVI AUTOMATIZZATI | D48: Fornitura di Dispositivi di Protezione Individuale. | E48: =$E$43 -> 33-PROCEDURA NEGOZIATA PER AFFIDAMENTI SOTTO SOGLIA | F48: 2821.48 | G48: 44396 | H48: 44496 | I48: 2312.69
A49: Z0F328EDE8 | B49: 80415130584 | C49: REPARTO SISTEMI INFORMATIVI AUTOMATIZZATI | D49: Acquisizione del servizio di pulizie ed igiene ambientale finalizzato a combattere la diffusione del Covid-19 per il mese di luglio 2021 | E49: =$E$21 -> 23-AFFIDAMENTO DIRETTO | F49: 4111.4 | G49: 44399 | H49: 44467 | I49: 3164.23
A50: 8684069072 | B50: 80415130584 | C50: REPARTO SISTEMI INFORMATIVI AUTOMATIZZATI | D50: Approvvigionamento di apparati hardware Area C2 | E50: =$E$43 -> 33-PROCEDURA NEGOZIATA PER AFFIDAMENTI SOTTO SOGLIA | F50: 100835.19 | G50: 44400 | H50: 44557 | I50: 82651.79
A51: ZB832776D6 | B51: 80415130584 | C51: REPARTO SISTEMI INFORMATIVI AUTOMATIZZATI | D51: Acquisizione materiale per disinfestazione | E51: =$E$21 -> 23-AFFIDAMENTO DIRETTO | F51: 824.32 | G51: 44403 | H51: 44467 | I51: 675.67
A52: 8741468797 | B52: 80415130584 | C52: REPARTO SISTEMI INFORMATIVI AUTOMATIZZATI | D52: Acquisizione di un servizio di assistenza sistemistica Vulnerability Assessment / Penetration Test / Code Review | E52: =$E$37 -> 33-PROCEDURA NEGOZIATA PER AFFIDAMENTI SOTTO SOGLIA | F52: 40199.15 | G52: 44411 | H52: 44561 | I52: 0
A53: ZF9325052B | B53: 80415130584 | C53: REPARTO SISTEMI INFORMATIVI AUTOMATIZZATI | D53: Rinnovo Licenze Software per capacità Reach-back dei prodotti ISR | E53: =$E$37 -> 33-PROCEDURA NEGOZIATA PER AFFIDAMENTI SOTTO SOGLIA | F53: 18715.29 | G53: 44393 | H53: 44413 | I53: 15340.4
A54: 877221332C | B54: 80415130584 | C54: REPARTO SISTEMI INFORMATIVI AUTOMATIZZATI | D54: Rinnovo Licenze Software Area C2 – Servizio VTC Class. | E54: =$E$53 -> 33-PROCEDURA NEGOZIATA PER AFFIDAMENTI SOTTO SOGLIA | F54: 21981.96 | G54: 44414 | H54: 44558 | I54: 18018
A55: Z4532A8F6F | B55: 80415130584 | C55: REPARTO SISTEMI INFORMATIVI AUTOMATIZZATI | D55: Servizio di pulizie ed igiene ambientale per i mesi di Agosto - Settembre 2021 finalizzato a combattere la diffusione del Covid-19. | E55: =$E$21 -> 23-AFFIDAMENTO DIRETTO | F55: 4111.4 | G55: 44410 | H55: 44515 | I55: 3164.23
A56: Z7D32B4244 | B56: 80415130584 | C56: REPARTO SISTEMI INFORMATIVI AUTOMATIZZATI | D56: servizio di manutenzione straordinaria impianti UPS del Comparto Meteo di Pratica di Mare. Aumento delle prestazioni ex art. 100 del D.P.R. 15 novembre 2012 n. 236. | E56: =$E$21 -> 23-AFFIDAMENTO DIRETTO | F56: 19054.33 | G56: 44413 | H56: 44561 | I56: 0
A57: Z6932B3AEA | B57: 80415130584 | C57: REPARTO SISTEMI INFORMATIVI AUTOMATIZZATI | D57: corsi di addetto al primo soccorso | E57: =$E$59 -> 26-AFFIDAMENTO DIRETTO IN ADESIONE AD ACCORDO QUADRO/CONVENZIONE | F57: 1421 | G57: 44413 | H57: 44558 | I57: 1421 | K57: =#REF! -> #REF!
A58: 877686956C | B58: 80415130584 | C58: REPARTO SISTEMI INFORMATIVI AUTOMATIZZATI | D58: Servizio di assistenza specialistica e manutenzione software per i sistemi IBL utilizzati dal comparto meteo (anno 2022) ed acquisizione del modulo applicativo AMHS del sistema Moving Weather della IBL | E58: =$E$56 -> 23-AFFIDAMENTO DIRETTO | F58: 159200 | G58: 44419 | H58: 44559 | I58: 159200 | J58: =#REF! -> #REF!
A59: Z2832BE2B4 | B59: 80415130584 | C59: REPARTO SISTEMI INFORMATIVI AUTOMATIZZATI | D59: approvvigionamento di 2.000 litri di Gasolio per gli impianti di riscaldamento e acqua calda | E59: =$E$47 -> 26-AFFIDAMENTO DIRETTO IN ADESIONE AD ACCORDO QUADRO/CONVENZIONE | F59: 2000 | G59: 44418 | H59: 44517 | I59: 942.49
A60: Z663154223 | B60: 80415130584 | C60: REPARTO SISTEMI INFORMATIVI AUTOMATIZZATI | D60: Realizzazione di uno stemma di Reparto | E60: =$E$21 -> 23-AFFIDAMENTO DIRETTO | F60: 534.59 | G60: 44357 | H60: 44561 | I60: 0
A61: Z1A32797BF | B61: 80415130584 | C61: REPARTO SISTEMI INFORMATIVI AUTOMATIZZATI | D61: Acquisizione di materiale per pulizia\sanificazione\ disinfezione | E61: =$E$60 -> 23-AFFIDAMENTO DIRETTO | F61: 2115.46 | G61: 44421 | H61: 44489 | I61: 1178.98
A62: ZF6323EEE3 | B62: 80415130584 | C62: REPARTO SISTEMI INFORMATIVI AUTOMATIZZATI | D62: Realizzazione di nuova porta di ingresso Magazzino della Centrale Elettrica presso il P.G. 82, alla sostituzione vetro vano scale Palazzina Tecnologica presso il P.G. 24 ed alla sostituzione vetro Nucleo Antincendi manufatto presso il P.G.14.. | E62: =$E$43 -> 33-PROCEDURA NEGOZIATA PER AFFIDAMENTI SOTTO SOGLIA | F62: 1706.08 | G62: 44431 | H62: 44551 | I62: 1398.42
A63: Z96329F4C8 | B63: 80415130584 | C63: REPARTO SISTEMI INFORMATIVI AUTOMATIZZATI | D63: Acquisizione e montaggio di coperture per Iveco A/45 targ. AM AI 766. Punto Van targ. AM CH969 e Iveco Cassonato targ. AM CC456. | E63: =$E$43 -> 33-PROCEDURA NEGOZIATA PER AFFIDAMENTI SOTTO SOGLIA | F63: 1468.35 | G63: 44431 | H63: 44552 | I63: 1203.56
A64: 88646436D1 | B64: 80415130584 | C64: REPARTO SISTEMI INFORMATIVI AUTOMATIZZATI | D64: Rinnovo licenza full corporate “SkyDemon” | E64: =$E$60 -> 23-AFFIDAMENTO DIRETTO | F64: 27884.71 | G64: 44431 | H64: 44515 | I64: 27605.86
A65: 8745295DB9 | B65: 80415130584 | C65: REPARTO SISTEMI INFORMATIVI AUTOMATIZZATI | D65: Assistenza sistemistica ed aggiornamento licenze del Sistema MMHS XOMAIL | E65: =$E$60 -> 23-AFFIDAMENTO DIRETTO | F65: 97599.78 | G65: 44432 | H65: 44559 | I65: 79999.82
A66: 8772510842 | B66: 80415130584 | C66: REPARTO SISTEMI INFORMATIVI AUTOMATIZZATI | D66: Rinnovo licenze software Area C2 - Fortinet | E66: =$E$43 -> 33-PROCEDURA NEGOZIATA PER AFFIDAMENTI SOTTO SOGLIA | F66: 33664.13 | G66: 44410 | H66: 44559 | I66: 27593.55
A67: 878948614E | B67: 80415130584 | C67: REPARTO SISTEMI INFORMATIVI AUTOMATIZZATI | D67: Acquisizione del servizio di supporto reattivo e supporto specialistico apparati EMC. | E67: =$E$43 -> 33-PROCEDURA NEGOZIATA PER AFFIDAMENTI SOTTO SOGLIA | F67: 166589.18 | G67: 44445 | H67: 44561 | I67: 0
A68: ZE332CBACE | B68: 80415130584 | C68: REPARTO SISTEMI INFORMATIVI AUTOMATIZZATI | D68: Intervento di riparazione del Forno elettrico a convezione della locale Cucina del Re.S.I.A. Acquasanta | E68: =$E$43 -> 33-PROCEDURA NEGOZIATA PER AFFIDAMENTI SOTTO SOGLIA | F68: 1574.25 | G68: 44446 | H68: 44517 | I68: 1290.37
A69: 8779068C16 | B69: 80415130584 | C69: REPARTO SISTEMI INFORMATIVI AUTOMATIZZATI | D69: servizio di assistenza e manutenzione evolutiva del sistema SICEF AM | E69: =$E$43 -> 33-PROCEDURA NEGOZIATA PER AFFIDAMENTI SOTTO SOGLIA | F69: 159913.68 | G69: 44452 | H69: 44551 | I69: 131076.79
A70: ZAC31E1A47 | B70: 80415130584 | C70: REPARTO SISTEMI INFORMATIVI AUTOMATIZZATI | D70: Acquisizione ed installazione di unità filtrante di aspirazione fumi per adeguamento e messa a norma locale Officina | E70: =$E$43 -> 33-PROCEDURA NEGOZIATA PER AFFIDAMENTI SOTTO SOGLIA | F70: 3339.32 | G70: 44455 | H70: 44545 | I70: 2737.15
A71: 8785823280 | B71: 80415130584 | C71: REPARTO SISTEMI INFORMATIVI AUTOMATIZZATI | D71: Acquisizione di un servizio di manutenzione software ed assistenza sistemistica alla piattaforma di supercalcolo del ReSIA - GSIM | E71: =$E$43 -> 33-PROCEDURA NEGOZIATA PER AFFIDAMENTI SOTTO SOGLIA | F71: 88173 | G71: 44454 | H71: 44561 | I71: 0
A72: 8829905C1B | B72: 80415130584 | C72: REPARTO SISTEMI INFORMATIVI AUTOMATIZZATI | D72: Interventi infrastrutturali finalizzati alla messa in sicurezza di uffici vari presso il manufatto nr. 24 di P.G. del sedime di Acquasanta. | E72: =$E$43 -> 33-PROCEDURA NEGOZIATA PER AFFIDAMENTI SOTTO SOGLIA | F72: 20602.93 | G72: 44456 | H72: 44558 | I72: 16887.65
A73: 8745262281 | B73: 80415130584 | C73: REPARTO SISTEMI INFORMATIVI AUTOMATIZZATI | D73: Realizzazione di alta affidabilità per servizio VTC Class su rete ItAF Secret WAN | E73: =$E$43 -> 33-PROCEDURA NEGOZIATA PER AFFIDAMENTI SOTTO SOGLIA | F73: 59658 | G73: 44455 | H73: 44550 | I73: 48900
A74: Z6E32C034C | B74: 80415130584 | C74: REPARTO SISTEMI INFORMATIVI AUTOMATIZZATI | D74: Acquisizione di attrezzature per manutenzione aree verdi | E74: =$E$43 -> 33-PROCEDURA NEGOZIATA PER AFFIDAMENTI SOTTO SOGLIA | F74: 7901.64 | G74: 44452 | H74: 44545 | I74: 6562.62
A75: 8921004563 | B75: 80415130584 | C75: REPARTO SISTEMI INFORMATIVI AUTOMATIZZATI | D75: Acquisto update licenze SW delle PDL AERONET e ITAFSW | E75: 26-AFFIDAMENTO DIRETTO IN ADESIONE AD ACCORDO QUADRO/CONVENZIONE | F75: 2377027.6 | G75: 44467 | H75: 44509 | I75: 2377027.6
A76: Z6B333EB28 | B76: 80415130584 | C76: REPARTO SISTEMI INFORMATIVI AUTOMATIZZATI | D76: Acquisizione del servizio di pulizie ed igiene ambientale per Il mese di ottobre 2021 finalizzato a combattere la diffusione del Covid-19 | E76: =$E$60 -> 23-AFFIDAMENTO DIRETTO | F76: 3370 | G76: 44468 | H76: 44561 | I76: 0
A77: 87731421CF | B77: 80415130584 | C77: REPARTO SISTEMI INFORMATIVI AUTOMATIZZATI | D77: Campagna di risparmio energetico mediante la sostituzione di infissi esterni della Palazzina “Tecnologica” (PG24). | E77: =$E$43 -> 33-PROCEDURA NEGOZIATA PER AFFIDAMENTI SOTTO SOGLIA | F77: 25928.42 | G77: 44474 | H77: 44553 | I77: 1500
A78: Z39330EEA4 | B78: 80415130584 | C78: REPARTO SISTEMI INFORMATIVI AUTOMATIZZATI | D78: Acquisizione di materiale di cancelleria. | E78: =$E$43 -> 33-PROCEDURA NEGOZIATA PER AFFIDAMENTI SOTTO SOGLIA | F78: 2440 | G78: 44474 | H78: 44532 | I78: 2000
A79: 88175318C3 | B79: 80415130584 | C79: REPARTO SISTEMI INFORMATIVI AUTOMATIZZATI | D79: Acquisizione di un servizio di assisteza sistemistica per la piattaforma operativa SWOP | E79: =$E$43 -> 33-PROCEDURA NEGOZIATA PER AFFIDAMENTI SOTTO SOGLIA | F79: 78870 | G79: 44461 | H79: 44561 | I79: 0
A80: Z983320C12 | B80: 80415130584 | C80: REPARTO SISTEMI INFORMATIVI AUTOMATIZZATI | D80: Acquisizione telecamera angolare per sala operazioni. | E80: =$E$60 -> 23-AFFIDAMENTO DIRETTO | F80: 465.06 | G80: 44475 | H80: 44561 | I80: 0
A81: 8826374A3C | B81: 80415130584 | C81: REPARTO SISTEMI INFORMATIVI AUTOMATIZZATI | D81: Servizio di assistenza sistemistica sistemi sicurezza ICT. | E81: =$E$43 -> 33-PROCEDURA NEGOZIATA PER AFFIDAMENTI SOTTO SOGLIA | F81: 80728.99 | G81: 44475 | H81: 44544 | I81: 7771
A82: 88517230E7 | B82: 80415130584 | C82: REPARTO SISTEMI INFORMATIVI AUTOMATIZZATI | D82: manutenzione assicurativa apparati HPE. | E82: =$E$43 -> 33-PROCEDURA NEGOZIATA PER AFFIDAMENTI SOTTO SOGLIA | F82: 147202.76 | G82: 44475 | H82: 44561 | I82: 0
A83: =Foglio3!$A$110 -> 8785005F73 | B83: 80415130584 | C83: REPARTO SISTEMI INFORMATIVI AUTOMATIZZATI | D83: Manutenzione correttiva ed evolutiva sistemi gestionali (Lotto 1) | E83: =$E$153 -> 02-PROCEDURA RISTRETTA | F83: 163836 | G83: 44477 | H83: 44561 | I83: 0
A84: 8785010397 | B84: 80415130584 | C84: REPARTO SISTEMI INFORMATIVI AUTOMATIZZATI | D84: Manutenzione correttiva ed evolutiva sistemi del personale (Lotto 2) | E84: =$E$83 -> 02-PROCEDURA RISTRETTA | F84: 139060.8 | G84: =$G$83 -> 44477 | H84: 44561 | I84: 0
A85: Z1C331E8B0 | B85: 80415130584 | C85: REPARTO SISTEMI INFORMATIVI AUTOMATIZZATI | D85: Rimessa in efficienza Iveco A/45 targ. AM AI 766. | E85: =$E$60 -> 23-AFFIDAMENTO DIRETTO | F85: 474.96 | G85: 44474 | H85: 44539 | I85: 389.31
A86: Z2F333A028 | B86: 80415130584 | C86: REPARTO SISTEMI INFORMATIVI AUTOMATIZZATI | D86: Servizio di manutenzione aree verdi in occasione del cambio del Comandante | E86: =$E$60 -> 23-AFFIDAMENTO DIRETTO | F86: 1204.77 | G86: 44469 | H86: 44559 | I86: 987
A87: 8711838425 | B87: 80415130584 | C87: REPARTO SISTEMI INFORMATIVI AUTOMATIZZATI | D87: Acquisizione licenze, assistenza sistemistica piattaforma CyberGuru | E87: =$E$43 -> 33-PROCEDURA NEGOZIATA PER AFFIDAMENTI SOTTO SOGLIA | F87: 232493.84 | G87: 44466 | H87: 44547 | I87: 190568.72
A88: 8808956474 | B88: 80415130584 | C88: REPARTO SISTEMI INFORMATIVI AUTOMATIZZATI | D88: Potenziamento delle capacità di storage per il sito di Disaster Recovery dell’infrastruttura di virtualizzazione | E88: =$E$43 -> 33-PROCEDURA NEGOZIATA PER AFFIDAMENTI SOTTO SOGLIA | F88: 93357.41 | G88: 44467 | H88: 44552 | I88: 76522.47
A89: ZAF330B248 | B89: 80415130584 | C89: REPARTO SISTEMI INFORMATIVI AUTOMATIZZATI | D89: Approvvigionamento di atomizzatori. | E89: =$E$60 -> 23-AFFIDAMENTO DIRETTO | F89: 778.7 | G89: 44489 | H89: 44544 | I89: 690.67
A90: 88336216A7 | B90: 80415130584 | C90: REPARTO SISTEMI INFORMATIVI AUTOMATIZZATI | D90: Servizio di assistenza specialistica per mantenimento certificazione ISO9007 ISO27001 | E90: =$E$89 -> 23-AFFIDAMENTO DIRETTO | F90: 30294 | G90: 44489 | H90: 44533 | I90: 30294
A91: =Foglio3!$A$124 -> Z8F338BF6D | B91: 80415130584 | C91: REPARTO SISTEMI INFORMATIVI AUTOMATIZZATI | D91: Servizio annuale Microsoft Premier. Aumento delle prestazioni ex art. 100 del D.P.R. 15 novembre 2012 n. 236. | E91: =$E$90 -> 23-AFFIDAMENTO DIRETTO | F91: 25383.6 | G91: 44489 | H91: 44553 | I91: 25383.6 | J91: =#REF! -> #REF! | K91: =#REF! -> #REF! | L91: =#REF! -> #REF! | M91: =#REF! -> #REF!
A92: ZA6336DC5F | B92: 80415130584 | C92: REPARTO SISTEMI INFORMATIVI AUTOMATIZZATI | D92: Acquisto materiale COBAR | E92: =$E$89 -> 23-AFFIDAMENTO DIRETTO | F92: 555.99 | G92: 44489 | H92: 44561 | I92: 0
A93: Z0D3389C63 | B93: 80415130584 | C93: REPARTO SISTEMI INFORMATIVI AUTOMATIZZATI | D93: Acquisizione di corsi di addetto al primo soccorso | E93: 26-AFFIDAMENTO DIRETTO IN ADESIONE AD ACCORDO QUADRO/CONVENZIONE | F93: 362.6 | G93: 44490 | H93: 44558 | I93: 362.6
A94: Z9C32C2158 | B94: 80415130584 | C94: REPARTO SISTEMI INFORMATIVI AUTOMATIZZATI | D94: Rifacimento tappezzeria sedile lato guida, per Fiat Punto Van targ. AM CH969, Fiat Strada targ. AM CL002 e Fiat Ducato targ. AM CC 640 | E94: =$E$43 -> 33-PROCEDURA NEGOZIATA PER AFFIDAMENTI SOTTO SOGLIA | F94: 609.82 | G94: 44468 | H94: 44532 | I94: 499.85
A95: Z6E3327D45 | B95: 80415130584 | C95: REPARTO SISTEMI INFORMATIVI AUTOMATIZZATI | D95: Servizio di smaltimento rifiuti speciali | E95: =$E$43 -> 33-PROCEDURA NEGOZIATA PER AFFIDAMENTI SOTTO SOGLIA | F95: 12149.14 | G95: 44480 | H95: 44559 | I95: 9958.31
A96: 8932552F16 | B96: 80415130584 | C96: REPARTO SISTEMI INFORMATIVI AUTOMATIZZATI | D96: Acquisizione di materiale per la gestione di apparati CIS. | E96: =$E$43 -> 33-PROCEDURA NEGOZIATA PER AFFIDAMENTI SOTTO SOGLIA | F96: 30860.82 | G96: 44496 | H96: 44553 | I96: 25295.75
A97: Z9233772E0 | B97: 80415130584 | C97: REPARTO SISTEMI INFORMATIVI AUTOMATIZZATI | D97: Acquisizione di carta formato A4 | E97: =$E$89 -> 23-AFFIDAMENTO DIRETTO | F97: 1479.9 | G97: 44494 | H97: 44532 | I97: 1212.87
A98: 89215220DC | B98: 80415130584 | C98: REPARTO SISTEMI INFORMATIVI AUTOMATIZZATI | D98: Acquisizione di licenze Red Hat | E98: 26-AFFIDAMENTO DIRETTO IN ADESIONE AD ACCORDO QUADRO/CONVENZIONE | F98: 185559.38 | G98: 44470 | H98: 44544 | I98: 152097.85
A99: 88464029DD | B99: 80415130584 | C99: REPARTO SISTEMI INFORMATIVI AUTOMATIZZATI | D99: Acquisizione l’acquisizione di servizi professionali di consulenza per l’Evoluzione dell’Intranet non classificata dell’A.M. (c.d. AERONET) dall’architettura FUMD (Foresta Unica Multi Dominio) verso l’architettura MFMD (Multi Foresta Multi Dominio). | E99: 04-PROCEDURA NEGOZIATA SENZA PREVIA PUBBLICAZIONE | F99: 426800 | G99: 44498 | H99: 44553 | I99: 426800
A100: Z70335950C | B100: 80415130584 | C100: REPARTO SISTEMI INFORMATIVI AUTOMATIZZATI | D100: Acquisizione di un servizio di assistenza sistemistica switch CISCO NEXUS | E100: =$E$43 -> 33-PROCEDURA NEGOZIATA PER AFFIDAMENTI SOTTO SOGLIA | F100: 9362.87 | G100: 44502 | H100: 44558 | I100: 7674.48
A101: 8815617D46 | B101: 80415130584 | C101: REPARTO SISTEMI INFORMATIVI AUTOMATIZZATI | D101: acquisizione hardware e software per sistema IEG J.A.GUAR.S..---------- | E101: =$E$43 -> 33-PROCEDURA NEGOZIATA PER AFFIDAMENTI SOTTO SOGLIA | F101: 119039.96 | G101: 44503 | H101: 44558 | I101: 119039.96
A102: 8925485739 | B102: 80415130584 | C102: REPARTO SISTEMI INFORMATIVI AUTOMATIZZATI | D102: Manutenzione biennale CISCO Partner Support Server (PSS). | E102: =$E$43 -> 33-PROCEDURA NEGOZIATA PER AFFIDAMENTI SOTTO SOGLIA | F102: 20862.29 | G102: 44508 | H102: 44558 | I102: 17100.24
A103: 8885817827 | B103: 80415130584 | C103: REPARTO SISTEMI INFORMATIVI AUTOMATIZZATI | D103: Acquisto e rinnovo licenze per software di vulnerability assessment e penetration test | E103: =$E$43 -> 33-PROCEDURA NEGOZIATA PER AFFIDAMENTI SOTTO SOGLIA | F103: 52843 | G103: 44509 | H103: 44559 | I103: 37343
...

Sheet Foglio3
A1: cig | B1: codiceFiscale | C1: ragioneSociale | D1: identificativoFiscaleEstero | E1: aggiudicatario
A2: =Foglio2!A2 -> ZB2303A5D6 | B2: 443130588 | C2: BUTANGAS S.p.A | E2: x
A3: 8577545E0B | B3: 4991991003 | C3: FATA INFORMATICA | E3: x
A4: Z9A30778BD | B4: 8251881002 | C4: SALUBER '04 SRL | E4: x
A5: Z57309CD6F | B5: 443130588 | C5: BUTANGAS S.p.A | E5: x
A6: 8625336C6D | B6: 11792031004 | C6: TERMOELETTRICA IMPIANTI S.A.S. DI CELLI CRISTIANO & C | E6: x
A7: 8625336C6D | B7: 10769471003 | C7: NUOVA GAROFOLI SRL
A8: ZEC30BBD83 | B8: 1252710403 | C8: BRONCHI COMBUSTIBILI | E8: x
A9: Z0630DFADD | B9: 443130588 | C9: BUTANGAS S.p.A | E9: x
A10: ZEE3079157 | B10: O3930360585 | C10: CIANA | E10: x
A11: 8543107AE9 | B11: SMPMRZ66R26H501I | C11: SAMPETRO MAURIZIO | E11: x
A12: 8634410C87 | B12: 4156061006 | C12: FIROTEK S.r.l. | E12: x
A13: Z4530D5384 | B13: OO716000583 | C13: SFAP Srl | E13: x
A14: 8617701FD2 | B14: 10769471003 | C14: NUOVA GAROFOLI SRL | E14: x
A15: 8617701FD2 | B15: 6363471001 | C15: TEELCOND IMPIANTI
A16: 8617701FD2 | B16: 3801151006 | C16: VITALE IMPIANTI
A17: 86291442E6. | B17: O827213007 | C17: PORTA NEOLA | E17: x
A18: Z95311F9CC | B18: 443130588 | C18: BUTANGAS S.p.A | E18: x
A19: Z193118604 | B19: 3351040583 | C19: CCG | E19: x
A20: 8678898532 | B20: 3351040583 | C20: CCG | E20: x
A21: ZB73106920 | B21: 9301301009 | C21: BIKAPPAESSE | E21: x
A22: 8643099EEA | B22: O3930360585 | C22: CIANA | E22: x
A23: 8643099EEA | B23: 8251881002 | C23: SALUBER '04 SRL
A24: Z9E314177B | B24: OO505590224 | C24: MIORELLI SERVICE | E24: X
A25: ZA731675E0 | B25: O8619670584 | C25: ITALWARE | E25: X
A26: ZF4315BEB1 | B26: 1252710403 | C26: BRONCHI COMBUSTIBILI | E26: X
A27: ZCD318E7DA | B27: 443130588 | C27: BUTANGAS S.p.A | E27: x
A28: Z213193DDB | B28: OO505590224 | C28: MIORELLI SERVICE | E28: X
A29: 870063899B | B29: 825330285 | C29: SONEPAR ITALIA | E29: x
A30: 8681546E62 | B30: 8503910583 | C30: TECNOFASTEN DI GATTI FABIO & C. S.N.C | E30: x
A31: 86406856D4 | B31: O7018000583 | C31: CGT ELETTRONICA | E31: X
A32: 86406856D4 | B32: O7879381007 | C32: DEAL IMPIANTI
A33: Z82319550F | B33: 3351040583 | C33: CCG | E33: x
A34: Z3431CFA08 | B34: O5618001001 | C34: GLOBAL SERVICE AMBIENTE SRL | E34: x
A35: Z1731CC422 | B35: O3930360585 | C35: CIANA | E35: x
A36: Z08319D3FE | B36: FSUFRC77L24H501R | C36: GRF di Federico Fusà | E36: x
A37: ZD732084C7 | B37: OO505590224 | C37: MIORELLI SERVICE | E37: X
A38: Z6B31B44DC | B38: 7954120965 | C38: LIBRERIA GIUNTI | E38: x
A39: 8731842FF4 | B39: 03188950103 | C39: Dedagroup Public Services S.r.l | E39: X
A40: 877321915A | B40: OO844040576 | C40: FABARIS | E40: X
A41: 8773591455 | B41: OO844040576 | C41: FABARIS | E41: X
A42: =Foglio2!$A$38 -> 8685014C45 | B42: 4431051004 | C42: THESI TECNOLOGIE | E42: X
A43: 8678914267 | B43: 01503841007 | C43: PRISMA SPA | E43: X
A44: 87452887F4 | B44: 6502221002 | C44: ATINET | E44: X
A45: 8745621AC0 | B45: 01503841007 | C45: PRISMA SPA | E45: X
A46: 8772589973 | B46: OO844040576 | C46: FABARIS
A47: 865948838F | B47: 7059981006 | C47: Teleconsys | E47: x
A48: Z8331E4040 | B48: 2082040680 | C48: SETEK | E48: X
A49: 8745230817 | B49: 2082040680 | C49: SETEK | E49: x
A50: 8727728CFA | B50: O3676480589 | C50: PROGESI | E50: x
A51: ZF6327003E | B51: 443130588 | C51: BUTANGAS S.p.A | E51: x
A52: ZA232325CD | B52: 7165400586 | C52: ANTINFORTUNISTICA ROBERTI SAS | E52: X
A53: ZA232325CD | B53: OOO716000583 | C53: S.F.A.P.
A54: Z0F328EDE8 | B54: OO505590224 | C54: MIORELLI SERVICE | E54: X
A55: 8684069072 | B55: O7059981006 | C55: Teleconsys | E55: X
A56: 8684069072 | B56: O4100941006 | C56: SO.GE.MI. SRL
A57: 8684069072 | B57: OO844040576 | C57: FABARIS
A58: 8684069072 | B58: O4431051004 | C58: THESI TECNOLOGIE
A59: ZB832776D6 | B59: O3351040583 | C59: CCG | E59: X
A60: 8741468797 | B60: 15116891001 | C60: CYBERTECH | E60: X
A61: 8741468797 | B61: 4991991003 | C61: FATA INFORMATICA
A62: 8741468797 | B62: 10223951004 | C62: SFERANET
A63: 8741468797 | B63: 1146441009 | C63: G.D. GRAFIDATA
A64: 8741468797 | B64: 5231661009 | C64: R1
A65: ZF9325052B | B65: 844040576 | C65: FABARIS | E65: X
A66: 877221332C | B66: 1989510134 | C66: IMPIANTI SPA | E66: X
A67: Z4532A8F6F | B67: OO505590224 | C67: MIORELLI SERVICE | E67: X
A68: Z7D32B4244 | B68: O7018000583 | C68: CGT ELETTRONICA | E68: X
A69: Z6932B3AEA | B69: 3533961003 | C69: SINTESI S.p.A. | E69: X
A70: 877686956C | B70: 35 726 407 | C70: IBL Software Engineering Slovakia | E70: X
A71: Z2832BE2B4 | B71: O1252710403 | C71: BRONCHI COMBUSTIBILI | E71: X
A72: Z663154223 | B72: BVOGFR51C28H501Y | C72: GB NEON | E72: X
A73: Z1A32797BF | B73: 8397890586 | C73: ERREBIAN | E73: X
A74: ZF6323EEE3 | B74: 13271131008 | C74: TECNOAPPALTI S.r.l. | E74: X
A75: Z96329F4C8 | B75: PRSDNC39R04E339V | C75: PARISI | E75: X
A76: 88646436D1 | B76: 2742880129 | C76: IFR SUPPLIES | E76: X
A77: 8745295DB9 | B77: 12628550159 | C77: THALES ITALIA | E77: X
A78: 8772510842 | B78: O5032840968 | C78: MATICMIND | E78: X
A79: 8772510842 | B79: 1146441009 | C79: G.D. GRAFIDATA
A80: 8772510842 | B80: 844040576 | C80: FABARIS
A81: 878948614E | B81: O2991230588 | C81: G.D. GRAFIDATA | E81: X
A82: 878948614E | B82: 5231661009 | C82: R1
A83: 878948614E | B83: O5685740721 | C83: C&C CONSULTING S.P.A.
A84: 878948614E | B84: O5032840968 | C84: MATICMIND S.P.A.
A85: ZE332CBACE | B85: O7975091005 | C85: ITALSERVICE | E85: X
A86: 8779068C16 | B86: 03188950103 | C86: Dedagroup Public Services S.r.l | E86: X
A87: ZAC31E1A47 | B87: 14768011000 | C87: MIVRA SRL | E87: X
A88: 8785823280 | B88: 01503841007 | C88: PRISMA SPA | E88: X
A89: 8829905C1B | B89: O9705391002 | C89: ELISABETTA II SRL | E89: X
A90: 8829905C1B | B90: 12964741008 | C90: EDIL RESTAURI E COSTRUZIONI SRLS
A91: 8829905C1B | B91: 14636071004 | C91: BUSSI SOLUZIONI EDILI S.R.L.S
A92: 8745262281 | B92: 844040576 | C92: FABARIS | E92: X
A93: 8745262281 | B93: O7059981006 | C93: Teleconsys
A94: Z6E32C034C | B94: OO877150946 | C94: OLIVA & C. S.r.l. | E94: X
A95: 8921004563 | B95: o4863810729 | C95: SIM NT SRL
A96: Z6B333EB28 | B96: OO505590224 | C96: MIORELLI SERVICE | E96: X
A97: 87731421CF | B97: DNICMN62T15A512G | C97: DIANA CARMINE | E97: X
A98: 87731421CF | B98: DMCLGU90P03A024J | C98: COSTRUZIONI GENERALI DI DI MICCO LUIGI
A99: 87731421CF | B99: OO912320942 | C99: GMP S.R.L.S.
A100: 87731421CF | B100: 11345551003 | C100: PROGETTO INFISSI SRL
...

Sheet Foglio4
A1: cig | B1: gruppo | C1: codiceFiscale | D1: ragioneSociale | E1: identificativoFiscaleEstero | F1: ruolo | G1: aggiudicatario

Sheet Foglio5
